BEGIN:VCALENDAR
VERSION:2.0
PRODID:-//Imagine-Mexico.com - ECPv6.15.3//NONSGML v1.0//EN
CALSCALE:GREGORIAN
METHOD:PUBLISH
X-WR-CALNAME:Imagine-Mexico.com
X-ORIGINAL-URL:https://imagine-mexico.com
X-WR-CALDESC:Events for Imagine-Mexico.com
REFRESH-INTERVAL;VALUE=DURATION:PT1H
X-Robots-Tag:noindex
X-PUBLISHED-TTL:PT1H
BEGIN:VTIMEZONE
TZID:America/Mexico_City
BEGIN:DAYLIGHT
TZOFFSETFROM:-0600
TZOFFSETTO:-0500
TZNAME:CDT
DTSTART:20180401T080000
END:DAYLIGHT
BEGIN:STANDARD
TZOFFSETFROM:-0500
TZOFFSETTO:-0600
TZNAME:CST
DTSTART:20181028T070000
END:STANDARD
BEGIN:DAYLIGHT
TZOFFSETFROM:-0600
TZOFFSETTO:-0500
TZNAME:CDT
DTSTART:20190407T080000
END:DAYLIGHT
BEGIN:STANDARD
TZOFFSETFROM:-0500
TZOFFSETTO:-0600
TZNAME:CST
DTSTART:20191027T070000
END:STANDARD
END:VTIMEZONE
BEGIN:VTIMEZONE
TZID:America/Chicago
BEGIN:DAYLIGHT
TZOFFSETFROM:-0600
TZOFFSETTO:-0500
TZNAME:CDT
DTSTART:20180311T080000
END:DAYLIGHT
BEGIN:STANDARD
TZOFFSETFROM:-0500
TZOFFSETTO:-0600
TZNAME:CST
DTSTART:20181104T070000
END:STANDARD
END:VTIMEZONE
BEGIN:VEVENT
DTSTART;VALUE=DATE:20190106
DTEND;VALUE=DATE:20190107
DTSTAMP:20260423T213239
CREATED:20181231T184820Z
LAST-MODIFIED:20181231T184820Z
UID:10250-1546732800-1546819199@imagine-mexico.com
SUMMARY:Three Kings Day - "Dia de los Reyes"
DESCRIPTION:Rather Than Santa\, Mexican Children Celebrate Arrival of the Three Kings and Camels on January 6th\nIn Spanish countries\, the children do not receive gifts in December on Christmas day. Instead\, the family exchanges gifts on January 6th of the new year on Three Kings Day – Día de Los Reyes Magos. This celebration stems from the New Testament of the Bible\, where it states that the kings\, Melchor\, Gaspar\, and Balthasar\, traveled by night all the way from the farthest confines of the earth to bring gifts to the baby Jesus. Arriving from three different directions\, the kings followed the light provided by the star of Bethlehem\, which reportedly lingered over the manger where the Virgin Mary gave birth for many days.   \nThree Kings Day is celebrated with festive lights in the streets\, Nativity scenes and holiday songs. There is also a joyful parade called the “Cabalgata de los Reyes Magos\,” to symbolize the arrival of the kings.  The kings ride upon horses or elaborate floats and throw goodies down to the children lining the streets. This is also traditionally the big opportunity for children to ask the kings for presents. \nIn the evening\, before an early night in bed\, children leave out their shoes in a spot where the kings are sure to see them. The religious monarchs\, just like Santa Claus\, certainly love their sweets\, so the children often set out goodies to entice the kings as well as hay to feed their camels. When morning arrives\, children delightedly discover that the kings nibbled the sweets\, the camels ate the hay\, and by their shoes there are wrapped presents.
URL:https://imagine-mexico.com/event/three-kings-day-dia-de-los-reyes/
LOCATION:Nationwide\, Mexico
CATEGORIES:National Observances
ATTACH;FMTTYPE=image/jpeg:https://imagine-mexico.com/wp-content/uploads/2016/12/o-THREE-KINGS-DAY-facebook.jpg
END:VEVENT
BEGIN:VEVENT
DTSTART;VALUE=DATE:20190101
DTEND;VALUE=DATE:20190102
DTSTAMP:20260423T213239
CREATED:20181231T183750Z
LAST-MODIFIED:20181231T183750Z
UID:10246-1546300800-1546387199@imagine-mexico.com
SUMMARY:Feliz Año Nuevo – Happy New Year!
DESCRIPTION:It’s a national holiday in Mexico that is celebrated with friends and family. People in many beach communities enjoy oceanfront dinners and entertainment. \nWherever you are\, have a Happy New Year!
URL:https://imagine-mexico.com/event/feliz-ano-nuevo-happy-new-year/
LOCATION:National\, Mexico
CATEGORIES:National Holiday
ATTACH;FMTTYPE=image/jpeg:https://imagine-mexico.com/wp-content/uploads/2018/12/feliz-ano.jpg
END:VEVENT
BEGIN:VEVENT
DTSTART;VALUE=DATE:20181120
DTEND;VALUE=DATE:20181121
DTSTAMP:20260423T213239
CREATED:20181025T173047Z
LAST-MODIFIED:20181025T173047Z
UID:9559-1542672000-1542758399@imagine-mexico.com
SUMMARY:Revolution Day
DESCRIPTION:On November 20\, Mexicans Celebrate the Revolution of 1910\nIn 1910\, the situation that existed in Mexico was not very different from what existed in the colonial era a hundred years before: A small group controlled industry and trade while most lived in poverty; there were no free elections\, and common citizens did not participate in the political life of the country. The difference was made in 1910\, when a small middle class of people was willing to fight and command a rebellion\, leading to a new constitution in 1917. \nEvery city has a parade or activity to celebrate this day.
URL:https://imagine-mexico.com/event/revolution-day/
CATEGORIES:National Holiday
ATTACH;FMTTYPE=image/jpeg:https://imagine-mexico.com/wp-content/uploads/2018/05/flag.jpg
END:VEVENT
BEGIN:VEVENT
DTSTART;VALUE=DATE:20181102
DTEND;VALUE=DATE:20181103
DTSTAMP:20260423T213239
CREATED:20181026T070229Z
LAST-MODIFIED:20181026T070229Z
UID:9589-1541116800-1541203199@imagine-mexico.com
SUMMARY:International Day to End Impunity for Crimes against Journalists
DESCRIPTION:Protect the Free Press!\nJournalists across the world have been killed for reporting the news and bringing information to the public. In some countries\, journalists are described as “enemies of the people.” According to the United Nations\, in nine out of ten cases the killers go unpunished. \nNovember 2nd is the ‘International Day to End Impunity for Crimes against Journalists. The United Nations condemns all attacks and violence against journalists and media workers. It also urges its Member States to do their utmost to prevent violence against journalists and media workers\, to ensure accountability\, bring to justice perpetrators of crimes against journalists and media workers\, and ensure that victims have access to appropriate remedies. It further calls upon States to promote a safe and enabling environment for journalists to perform their work independently and without undue interference. \nThe TRUTH never dies.
URL:https://imagine-mexico.com/event/international-day-to-end-impunity-for-crimes-against-journalists/
CATEGORIES:UN International Day
ATTACH;FMTTYPE=image/jpeg:https://imagine-mexico.com/wp-content/uploads/2018/10/Journalist-Day.jpg
END:VEVENT
BEGIN:VEVENT
DTSTART;VALUE=DATE:20181002
DTEND;VALUE=DATE:20181003
DTSTAMP:20260423T213239
CREATED:20180928T133815Z
LAST-MODIFIED:20180928T133815Z
UID:9348-1538438400-1538524799@imagine-mexico.com
SUMMARY:UN International Day of Non-Violence
DESCRIPTION:In Dedication to Mahatma Gandhi\nThis day is dedicated to Mahatma Gandhi\, who helped lead India to independence. Gandhi was committed to his belief in non-violence even under oppressive conditions and in the face of seemingly insurmountable challenges. \nHe has been the inspiration for non-violent movements for civil rights and social change across the world. \nAccording to the UN: \nOne key tenet of the theory of non-violence is that the power of rulers depends on the consent of the population\, and non-violence\, therefore\, seeks to undermine such power through withdrawal of the consent and cooperation of the populace. \nThere are three main categories of non-violence action: \n\nprotest and persuasion\, including marches and vigils;\nnon-cooperation; and\nnon-violent intervention\, such as blockades and occupations.
URL:https://imagine-mexico.com/event/un-international-day-of-non-violence/
CATEGORIES:International Holiday
ATTACH;FMTTYPE=image/jpeg:https://imagine-mexico.com/wp-content/uploads/2018/09/Ghandi.jpg
END:VEVENT
BEGIN:VEVENT
DTSTART;VALUE=DATE:20180908
DTEND;VALUE=DATE:20180909
DTSTAMP:20260423T213239
CREATED:20180901T134258Z
LAST-MODIFIED:20180901T134258Z
UID:9225-1536364800-1536451199@imagine-mexico.com
SUMMARY:International Literacy Day
DESCRIPTION:Let’s Read!\nOn September 8\, 2018\, UNESCO’s International Literacy Day will be celebrated around the world. The theme for 2018 is “Literacy and skills development”. Although progress has been made throughout the world\, literacy challenges persist\, and at the same time the demands for skills required for work\, evolve rapidly. \nOne of the United Nations goals for sustainable development is to improve literacy around the world. The development of literacy and skills will ultimately improve people’s life and work and contribute to equitable and sustainable societies. \nIn Mexico\nThe government of the State of Guerrero has initiated a new reading program – “Acapulco Out Loud” to encourage reading out loud.
URL:https://imagine-mexico.com/event/international-literacy-day/
CATEGORIES:International Holiday
ATTACH;FMTTYPE=image/jpeg:https://imagine-mexico.com/wp-content/uploads/2018/09/International-Literacy-Day.jpg
END:VEVENT
BEGIN:VEVENT
DTSTART;VALUE=DATE:20180823
DTEND;VALUE=DATE:20180824
DTSTAMP:20260423T213239
CREATED:20180716T125920Z
LAST-MODIFIED:20180716T130536Z
UID:8681-1534982400-1535068799@imagine-mexico.com
SUMMARY:International Day for the Remembrance of the Slave Trade and its Abolition
DESCRIPTION:Remember the Slave Trade and Teach!\nBy means of the International Day for the Remembrance of the Slave Trade and its Abolition\, UNESCO aims to recall the crucial importance of the transmission of history in order to shed light on the fight against all forms of oppression and racism today. \nThis effort is the eternal effort for the comprehensive affirmation of human dignity\, and UNESCO devotes to it the full force of its mandate\, through education\, culture\, sharing of information and scientific research\, which help to construct in the minds of all ramparts against racism and prejudice. \nThe teaching of the General History of Africa and the Slave Route programme are examples of this. Ignorance is our enemy: \n\nIgnorance is our enemy: it is used as an alibi by the indifferent who state that “we cannot change anything”\, and sanctions the lies of those who claim that “they did not know”. . \nIrina Bokova\nUNESCO Director-General \n\nDownload the UNESCO brochure with lessons and information to teach our children. UNESCO Brochure – Slave Trade.  Also\, watch the BBC Series\, “The History of Africa”  \nMany people are unaware of the African presence in Mexico\, but more people were enslaved and shipped into Latin America than in the north. The state of Guerrero\, in particular\, has a large concentration of Afro-Mexicans. The state was named after Vicente Guerrero\, Mexico’s second president\, who was of African-Indigenous descent. He abolished slavery during his administration in 1829. For more information about Afro-Mexicans in Guerrero\, visit: www.FreedomPathways.org
URL:https://imagine-mexico.com/event/international-day-for-the-remembrance-of-the-slave-trade-and-its-abolition/
LOCATION:Worldwide
CATEGORIES:UN International Day
ATTACH;FMTTYPE=image/jpeg:https://imagine-mexico.com/wp-content/uploads/2014/03/Remember-Slavery.jpg
END:VEVENT
BEGIN:VEVENT
DTSTART;VALUE=DATE:20180812
DTEND;VALUE=DATE:20180813
DTSTAMP:20260423T213239
CREATED:20180713T163158Z
LAST-MODIFIED:20180713T163158Z
UID:8665-1534032000-1534118399@imagine-mexico.com
SUMMARY:United Nations International Youth Day
DESCRIPTION:The UN Recognizes Our Young People\nIt is important to recognize the positive contributions that young people make to the societies of the world. They enrich the social and cultural fabric of their communities. Most work hard to earn a living and improve their circumstances. Many have the responsibility of helping to support their families and are a major contributor to economies worldwide. Please plan an activity in your community to support this day.
URL:https://imagine-mexico.com/event/united-nations-international-youth-day/
LOCATION:Worldwide
CATEGORIES:UN International Day
ATTACH;FMTTYPE=image/jpeg:https://imagine-mexico.com/wp-content/uploads/2016/04/World-Peace-Youth-Conference.jpe
END:VEVENT
BEGIN:VEVENT
DTSTART;VALUE=DATE:20180809
DTEND;VALUE=DATE:20180810
DTSTAMP:20260423T213239
CREATED:20180713T161450Z
LAST-MODIFIED:20180713T162317Z
UID:8660-1533772800-1533859199@imagine-mexico.com
SUMMARY:International Day of The World’s Indigenous People
DESCRIPTION:Honor and Celebrate Our Native Cultures!\nIn 1994\, the United Nations General Assembly proclaimed this date to be celebrated every year. Indigenous peoples have sought recognition of their identities\, their way of life and their right to traditional lands\, territories and natural resources for years. Yet throughout history\, their rights have always been violated. Indigenous peoples today\, are arguably among the most disadvantaged and vulnerable groups of people in the world. The international community now recognizes that special measures are required to protect their rights and maintain their distinct cultures and way of life. \nThe state of Guerrero\, Mexico is one of the most diverse in the country. There are approximately 600\,000 indigenous people living in Guerrero\, about 20% of the total population of the state. There are more than 20 different native languages spoken by its inhabitants\, but the principal one spoken is Náhuatl. Many Mexicans of African descent live in the Costa Chica Region of the state. For more information\, see: The State of Guerrero is Full of Rich History\, Culture and\, Ethnic Diversity
URL:https://imagine-mexico.com/event/international-day-of-the-worlds-indigenous-people/
LOCATION:Worldwide
CATEGORIES:UN International Day
ATTACH;FMTTYPE=image/jpeg:https://imagine-mexico.com/wp-content/uploads/2015/07/Indigenous-People-Zihuatanejo-Tania-Scales.jpg
END:VEVENT
BEGIN:VEVENT
DTSTART;VALUE=DATE:20180730
DTEND;VALUE=DATE:20180731
DTSTAMP:20260423T213239
CREATED:20180621T153656Z
LAST-MODIFIED:20180621T153841Z
UID:8399-1532908800-1532995199@imagine-mexico.com
SUMMARY:UN International Day of Friendship
DESCRIPTION:Build Peace One Friend at a Time\nOur world faces many challenges and crises. We have poverty\, violence\, and human rights abuses. \nWe can confront these crises and challenges through friendship. We can build bonds of camaraderie and develop strong ties of trust. Through friendship we can generate passion for a better world where all are united for the greater good.
URL:https://imagine-mexico.com/event/un-international-day-of-friendship/
LOCATION:Worldwide
CATEGORIES:UN International Day
ATTACH;FMTTYPE=image/jpeg:https://imagine-mexico.com/wp-content/uploads/2018/06/my-best-friend-1370977.jpg
END:VEVENT
BEGIN:VEVENT
DTSTART;VALUE=DATE:20180718
DTEND;VALUE=DATE:20180719
DTSTAMP:20260423T213239
CREATED:20180617T170920Z
LAST-MODIFIED:20180621T145913Z
UID:8384-1531872000-1531958399@imagine-mexico.com
SUMMARY:Nelson Mandela Day
DESCRIPTION:Nelson Mandela was a Peacemaker\nFor 67 years Nelson Mandela devoted his life to the service of humanity — as a human rights lawyer\, a prisoner of conscience\, an international peacemaker and the first democratically elected president of a free South Africa. \nUse the day to take action and to inspire change! \nRelated Article \n“Mandela” by Costa Chica Artist Aydee Rodriguez Given to South Africa \n \n 
URL:https://imagine-mexico.com/event/nelson-mandela-day/
LOCATION:Worldwide
CATEGORIES:UN International Day
ATTACH;FMTTYPE=image/jpeg:https://imagine-mexico.com/wp-content/uploads/2018/06/mandela.jpg
END:VEVENT
BEGIN:VEVENT
DTSTART;VALUE=DATE:20180715
DTEND;VALUE=DATE:20180716
DTSTAMP:20260423T213239
CREATED:20180617T171011Z
LAST-MODIFIED:20180621T150305Z
UID:8380-1531612800-1531699199@imagine-mexico.com
SUMMARY:UN World Youth Skills Day
DESCRIPTION:Our Youth are the Future!\nThe United Nations recognizes that fostering the development of skills by youth will enhance their ability to make informed life and work choices and empower them to gain access to changing labors. The United Nations General Assembly designates 15 July as World Youth Skills Day. \nRelated Articles: \nImagine-Mexico.com/Mexico Offers Innovative Vocational Training at its Technical Universities \nImagine-Mexico.com/Seek Graduate Studies Abroad but Come Back to Mexico \nImagine-Mexico.com/Universidad Autonoma de Guerrero – Mexico’s Tourism University
URL:https://imagine-mexico.com/event/un-world-youth-skills-day/
CATEGORIES:UN International Day
ATTACH;FMTTYPE=image/jpeg:https://imagine-mexico.com/wp-content/uploads/2014/01/Youth-Ambassadors.jpg
END:VEVENT
BEGIN:VEVENT
DTSTART;VALUE=DATE:20180711
DTEND;VALUE=DATE:20180712
DTSTAMP:20260423T213239
CREATED:20180617T171103Z
LAST-MODIFIED:20180621T150449Z
UID:8371-1531267200-1531353599@imagine-mexico.com
SUMMARY:UN World Populations Day
DESCRIPTION:Population Issues are Urgent and Important\n\nWorld Population Day\, which seeks to focus attention on the urgency and importance of population issues in the context of overall development plans and programs and the need to find solutions for these issues.
URL:https://imagine-mexico.com/event/un-world-populations-day/
LOCATION:Worldwide
CATEGORIES:UN International Day
ATTACH;FMTTYPE=image/jpeg:https://imagine-mexico.com/wp-content/uploads/2018/06/world-POPULation.jpg
END:VEVENT
BEGIN:VEVENT
DTSTART;VALUE=DATE:20180701
DTEND;VALUE=DATE:20180702
DTSTAMP:20260423T213239
CREATED:20180617T171130Z
LAST-MODIFIED:20180621T150635Z
UID:8367-1530403200-1530489599@imagine-mexico.com
SUMMARY:UN International Day of Cooperatives
DESCRIPTION:Co-Op Groups Help Local Economic Development\nInternational Co-operative Day is an annual celebration of the co-operative movement observed by the International Co-operative Alliance. The United Nations General Assembly proclaimed in resolution 47/90 “the first Saturday of July” to be International Day of Cooperatives. \nThe goals of this International Day are 1) to increase awareness on cooperatives and 2) highlight the complementarity of the goals and objectives of the United Nations and the international cooperative movement. \nCommunity-based co-operative groups work for the sustainable development of their communities – environmentally\, socially and economically. They support community activities\, local sourcing of supplies to benefit the local economy\, and they are involved in decision-making that considers the impact on their communities. \nRelated Article: Women’s Co-op in Barra de Potosi Make Innovative Mexican Crafts \n 
URL:https://imagine-mexico.com/event/un-international-day-of-cooperatives/
LOCATION:Worldwide
CATEGORIES:UN International Day
ATTACH;FMTTYPE=image/jpeg:https://imagine-mexico.com/wp-content/uploads/2013/04/Barra-de-Potosi-Spring-Fair-2.jpg
END:VEVENT
BEGIN:VEVENT
DTSTART;VALUE=DATE:20180501
DTEND;VALUE=DATE:20180502
DTSTAMP:20260423T213239
CREATED:20180509T231701Z
LAST-MODIFIED:20180509T231701Z
UID:6707-1525132800-1525219199@imagine-mexico.com
SUMMARY:INTERNATIONAL LABOR DAY (Día Internaciónal de Los Trabajadores):
DESCRIPTION:
URL:https://imagine-mexico.com/event/international-labor-day-dia-internacional-de-los-trabajadores/
CATEGORIES:National Holiday
ATTACH;FMTTYPE=image/jpeg:https://imagine-mexico.com/wp-content/uploads/2016/04/1oDeMayoDiaDelTrabajo.jpg
END:VEVENT
END:VCALENDAR