BEGIN:VCALENDAR
VERSION:2.0
PRODID:-//Imagine-Mexico.com - ECPv6.15.3//NONSGML v1.0//EN
CALSCALE:GREGORIAN
METHOD:PUBLISH
X-WR-CALNAME:Imagine-Mexico.com
X-ORIGINAL-URL:https://imagine-mexico.com
X-WR-CALDESC:Events for Imagine-Mexico.com
REFRESH-INTERVAL;VALUE=DURATION:PT1H
X-Robots-Tag:noindex
X-PUBLISHED-TTL:PT1H
BEGIN:VTIMEZONE
TZID:America/Mexico_City
BEGIN:DAYLIGHT
TZOFFSETFROM:-0600
TZOFFSETTO:-0500
TZNAME:CDT
DTSTART:20180401T080000
END:DAYLIGHT
BEGIN:STANDARD
TZOFFSETFROM:-0500
TZOFFSETTO:-0600
TZNAME:CST
DTSTART:20181028T070000
END:STANDARD
END:VTIMEZONE
BEGIN:VEVENT
DTSTART;VALUE=DATE:20180809
DTEND;VALUE=DATE:20180810
DTSTAMP:20260423T201542
CREATED:20180713T161450Z
LAST-MODIFIED:20180713T162317Z
UID:8660-1533772800-1533859199@imagine-mexico.com
SUMMARY:International Day of The World’s Indigenous People
DESCRIPTION:Honor and Celebrate Our Native Cultures!\nIn 1994\, the United Nations General Assembly proclaimed this date to be celebrated every year. Indigenous peoples have sought recognition of their identities\, their way of life and their right to traditional lands\, territories and natural resources for years. Yet throughout history\, their rights have always been violated. Indigenous peoples today\, are arguably among the most disadvantaged and vulnerable groups of people in the world. The international community now recognizes that special measures are required to protect their rights and maintain their distinct cultures and way of life. \nThe state of Guerrero\, Mexico is one of the most diverse in the country. There are approximately 600\,000 indigenous people living in Guerrero\, about 20% of the total population of the state. There are more than 20 different native languages spoken by its inhabitants\, but the principal one spoken is Náhuatl. Many Mexicans of African descent live in the Costa Chica Region of the state. For more information\, see: The State of Guerrero is Full of Rich History\, Culture and\, Ethnic Diversity
URL:https://imagine-mexico.com/event/international-day-of-the-worlds-indigenous-people/
LOCATION:Worldwide
CATEGORIES:UN International Day
ATTACH;FMTTYPE=image/jpeg:https://imagine-mexico.com/wp-content/uploads/2015/07/Indigenous-People-Zihuatanejo-Tania-Scales.jpg
END:VEVENT
BEGIN:VEVENT
DTSTART;VALUE=DATE:20180730
DTEND;VALUE=DATE:20180731
DTSTAMP:20260423T201542
CREATED:20180621T153656Z
LAST-MODIFIED:20180621T153841Z
UID:8399-1532908800-1532995199@imagine-mexico.com
SUMMARY:UN International Day of Friendship
DESCRIPTION:Build Peace One Friend at a Time\nOur world faces many challenges and crises. We have poverty\, violence\, and human rights abuses. \nWe can confront these crises and challenges through friendship. We can build bonds of camaraderie and develop strong ties of trust. Through friendship we can generate passion for a better world where all are united for the greater good.
URL:https://imagine-mexico.com/event/un-international-day-of-friendship/
LOCATION:Worldwide
CATEGORIES:UN International Day
ATTACH;FMTTYPE=image/jpeg:https://imagine-mexico.com/wp-content/uploads/2018/06/my-best-friend-1370977.jpg
END:VEVENT
BEGIN:VEVENT
DTSTART;VALUE=DATE:20180718
DTEND;VALUE=DATE:20180719
DTSTAMP:20260423T201542
CREATED:20180617T170920Z
LAST-MODIFIED:20180621T145913Z
UID:8384-1531872000-1531958399@imagine-mexico.com
SUMMARY:Nelson Mandela Day
DESCRIPTION:Nelson Mandela was a Peacemaker\nFor 67 years Nelson Mandela devoted his life to the service of humanity — as a human rights lawyer\, a prisoner of conscience\, an international peacemaker and the first democratically elected president of a free South Africa. \nUse the day to take action and to inspire change! \nRelated Article \n“Mandela” by Costa Chica Artist Aydee Rodriguez Given to South Africa \n \n 
URL:https://imagine-mexico.com/event/nelson-mandela-day/
LOCATION:Worldwide
CATEGORIES:UN International Day
ATTACH;FMTTYPE=image/jpeg:https://imagine-mexico.com/wp-content/uploads/2018/06/mandela.jpg
END:VEVENT
BEGIN:VEVENT
DTSTART;VALUE=DATE:20180715
DTEND;VALUE=DATE:20180716
DTSTAMP:20260423T201542
CREATED:20180617T171011Z
LAST-MODIFIED:20180621T150305Z
UID:8380-1531612800-1531699199@imagine-mexico.com
SUMMARY:UN World Youth Skills Day
DESCRIPTION:Our Youth are the Future!\nThe United Nations recognizes that fostering the development of skills by youth will enhance their ability to make informed life and work choices and empower them to gain access to changing labors. The United Nations General Assembly designates 15 July as World Youth Skills Day. \nRelated Articles: \nImagine-Mexico.com/Mexico Offers Innovative Vocational Training at its Technical Universities \nImagine-Mexico.com/Seek Graduate Studies Abroad but Come Back to Mexico \nImagine-Mexico.com/Universidad Autonoma de Guerrero – Mexico’s Tourism University
URL:https://imagine-mexico.com/event/un-world-youth-skills-day/
CATEGORIES:UN International Day
ATTACH;FMTTYPE=image/jpeg:https://imagine-mexico.com/wp-content/uploads/2014/01/Youth-Ambassadors.jpg
END:VEVENT
BEGIN:VEVENT
DTSTART;VALUE=DATE:20180711
DTEND;VALUE=DATE:20180712
DTSTAMP:20260423T201542
CREATED:20180617T171103Z
LAST-MODIFIED:20180621T150449Z
UID:8371-1531267200-1531353599@imagine-mexico.com
SUMMARY:UN World Populations Day
DESCRIPTION:Population Issues are Urgent and Important\n\nWorld Population Day\, which seeks to focus attention on the urgency and importance of population issues in the context of overall development plans and programs and the need to find solutions for these issues.
URL:https://imagine-mexico.com/event/un-world-populations-day/
LOCATION:Worldwide
CATEGORIES:UN International Day
ATTACH;FMTTYPE=image/jpeg:https://imagine-mexico.com/wp-content/uploads/2018/06/world-POPULation.jpg
END:VEVENT
BEGIN:VEVENT
DTSTART;VALUE=DATE:20180701
DTEND;VALUE=DATE:20180702
DTSTAMP:20260423T201542
CREATED:20180617T171130Z
LAST-MODIFIED:20180621T150635Z
UID:8367-1530403200-1530489599@imagine-mexico.com
SUMMARY:UN International Day of Cooperatives
DESCRIPTION:Co-Op Groups Help Local Economic Development\nInternational Co-operative Day is an annual celebration of the co-operative movement observed by the International Co-operative Alliance. The United Nations General Assembly proclaimed in resolution 47/90 “the first Saturday of July” to be International Day of Cooperatives. \nThe goals of this International Day are 1) to increase awareness on cooperatives and 2) highlight the complementarity of the goals and objectives of the United Nations and the international cooperative movement. \nCommunity-based co-operative groups work for the sustainable development of their communities – environmentally\, socially and economically. They support community activities\, local sourcing of supplies to benefit the local economy\, and they are involved in decision-making that considers the impact on their communities. \nRelated Article: Women’s Co-op in Barra de Potosi Make Innovative Mexican Crafts \n 
URL:https://imagine-mexico.com/event/un-international-day-of-cooperatives/
LOCATION:Worldwide
CATEGORIES:UN International Day
ATTACH;FMTTYPE=image/jpeg:https://imagine-mexico.com/wp-content/uploads/2013/04/Barra-de-Potosi-Spring-Fair-2.jpg
END:VEVENT
END:VCALENDAR