BEGIN:VCALENDAR
VERSION:2.0
PRODID:-//Imagine-Mexico.com - ECPv6.15.3//NONSGML v1.0//EN
CALSCALE:GREGORIAN
METHOD:PUBLISH
X-ORIGINAL-URL:https://imagine-mexico.com
X-WR-CALDESC:Events for Imagine-Mexico.com
REFRESH-INTERVAL;VALUE=DURATION:PT1H
X-Robots-Tag:noindex
X-PUBLISHED-TTL:PT1H
BEGIN:VTIMEZONE
TZID:America/Mexico_City
BEGIN:DAYLIGHT
TZOFFSETFROM:-0600
TZOFFSETTO:-0500
TZNAME:CDT
DTSTART:20190407T080000
END:DAYLIGHT
BEGIN:STANDARD
TZOFFSETFROM:-0500
TZOFFSETTO:-0600
TZNAME:CST
DTSTART:20191027T070000
END:STANDARD
BEGIN:DAYLIGHT
TZOFFSETFROM:-0600
TZOFFSETTO:-0500
TZNAME:CDT
DTSTART:20200405T080000
END:DAYLIGHT
BEGIN:STANDARD
TZOFFSETFROM:-0500
TZOFFSETTO:-0600
TZNAME:CST
DTSTART:20201025T070000
END:STANDARD
BEGIN:DAYLIGHT
TZOFFSETFROM:-0600
TZOFFSETTO:-0500
TZNAME:CDT
DTSTART:20210404T080000
END:DAYLIGHT
BEGIN:STANDARD
TZOFFSETFROM:-0500
TZOFFSETTO:-0600
TZNAME:CST
DTSTART:20211031T070000
END:STANDARD
BEGIN:DAYLIGHT
TZOFFSETFROM:-0600
TZOFFSETTO:-0500
TZNAME:CDT
DTSTART:20220403T080000
END:DAYLIGHT
BEGIN:STANDARD
TZOFFSETFROM:-0500
TZOFFSETTO:-0600
TZNAME:CST
DTSTART:20221030T070000
END:STANDARD
BEGIN:DAYLIGHT
TZOFFSETFROM:-0600
TZOFFSETTO:-0500
TZNAME:CDT
DTSTART:20230402T080000
END:DAYLIGHT
BEGIN:STANDARD
TZOFFSETFROM:-0500
TZOFFSETTO:-0600
TZNAME:CST
DTSTART:20231029T070000
END:STANDARD
BEGIN:DAYLIGHT
TZOFFSETFROM:-0600
TZOFFSETTO:-0500
TZNAME:CDT
DTSTART:20240407T080000
END:DAYLIGHT
BEGIN:STANDARD
TZOFFSETFROM:-0500
TZOFFSETTO:-0600
TZNAME:CST
DTSTART:20241027T070000
END:STANDARD
END:VTIMEZONE
BEGIN:VEVENT
DTSTART;VALUE=DATE:20240510
DTEND;VALUE=DATE:20240511
DTSTAMP:20260423T201607
CREATED:20240510T100048Z
LAST-MODIFIED:20240510T113227Z
UID:11051-1715299200-1715385599@imagine-mexico.com
SUMMARY:Mother’s Day – May 10 (Mexico)\, May 12 (USA\, Canada\, & Cuba)
DESCRIPTION:Don’t forget Moma! Mother’s Day is celebrated on different dates in the Americas. In Mexico and Latin America\, Mother’s Day is celebrated each year on May 10th. In the USA\, Canada\, and Cuba\, Mother’s Day is celebrated on the second Sunday in May. So\, call your Mother twice! \nIn Mexico\, “la madre” is revered. Mother’s Day in Mexico is an extraordinarily special day. The beach\, restaurants\, and streets are overflowing with families celebrating. The local stores are packed with colorful flowers. The bakeries display very grand and beautiful “Happy Mother’s Day” cakes. Thank you to all of the Mothers of the World!
URL:https://imagine-mexico.com/event/mothers-day-may-10-mexico-may-12-usa-canada-cuba/
LOCATION:Nationwide\, Mexico
CATEGORIES:National Observances
ATTACH;FMTTYPE=image/jpeg:https://imagine-mexico.com/wp-content/uploads/2016/04/dia-de-la-madre.jpg.jpg
END:VEVENT
BEGIN:VEVENT
DTSTART;VALUE=DATE:20240430
DTEND;VALUE=DATE:20240501
DTSTAMP:20260423T201607
CREATED:20240430T121007Z
LAST-MODIFIED:20240430T165813Z
UID:10819-1714435200-1714521599@imagine-mexico.com
SUMMARY:El Día del Niño (Day Of The Child) in Mexico – April 30
DESCRIPTION:The United Nations established “Children’s Day” in 1954 to protect children who were working long hours in dangerous circumstances\, and to allow all children access to an education. “Children’s Day” is recognized on various days in many countries around to world to honor children. \nIn Mexico\, Children’s Day is celebrated on April 30. It is also known as “El Día Del Niño”. On this day teachers in schools organize the day for their children. Lessons are suspended for the day. Children participate in games\, listen to music\, and bring in their favorite foods to share with others. Many families also have a day out with their children. \nThroughout the country\, there are special activities for children in restaurants and hotels. Children also receive presents from their families. This is the day when children are really honored in Mexico. So\, spend some time with the children in your life!
URL:https://imagine-mexico.com/event/el-dia-del-nino-day-of-the-child-in-mexico-april-30/
LOCATION:Nationwide\, Mexico
CATEGORIES:National Observances
ATTACH;FMTTYPE=image/jpeg:https://imagine-mexico.com/wp-content/uploads/2014/01/Children-are-our-future.jpg
END:VEVENT
BEGIN:VEVENT
DTSTART;VALUE=DATE:20230515
DTEND;VALUE=DATE:20230516
DTSTAMP:20260423T201607
CREATED:20190426T170213Z
LAST-MODIFIED:20230515T145333Z
UID:11053-1684108800-1684195199@imagine-mexico.com
SUMMARY:Teachers’ Day (DÍA DEL MAESTRO) in Mexico – May 15
DESCRIPTION:Every May 15th Mexico salutes its teachers and professors. This date became a national tradition in 1918 and has continued. Take a mango to your teacher!
URL:https://imagine-mexico.com/event/teachers-day-dia-del-maestro-in-mexico-may-15/
LOCATION:Nationwide\, Mexico
CATEGORIES:National Observances
ATTACH;FMTTYPE=image/jpeg:https://imagine-mexico.com/wp-content/uploads/2019/04/DIA-DEL-MAESTRO-02.jpg
END:VEVENT
BEGIN:VEVENT
DTSTART;VALUE=DATE:20191031
DTEND;VALUE=DATE:20191103
DTSTAMP:20260423T201607
CREATED:20181025T163116Z
LAST-MODIFIED:20191003T170527Z
UID:9547-1572480000-1572739199@imagine-mexico.com
SUMMARY:"Dia de los Muertos" - Day of the Dead
DESCRIPTION:Rather Than Halloween\, Mexicans Honor Their Past Loved Ones on Day of the Dead\nOctober 31 – November 2 – During this time\, Mexico celebrates the Day of the Dead. This holiday is as important to Mexicans as Thanksgiving is in the USA and Canada. It is a celebration\, not of death\, but of the continuum of life. Families travel long distances to be with their loved ones on this occasion. Its origins are distinctly Mexican: During the time of the Aztecs\, a month-long summer celebration was overseen by the goddess Mictecacihuatl\, the Lady of the Dead. After the Aztecs were conquered by Spain and Catholicism became the dominant religion\, the customs became intertwined with the Christian commemoration of All Saints’ Day on Nov. 1st. The holiday is a joyous celebration!  It is a time for the family to pray\, to reflect\, to honor and to remember their dead. \nMost cities have parades with exciting costumes. Look for events in your area. \nRead these articles: \nAltars\, Masks and Parades for the Day of the Dead in Mexico \n \n  \n 
URL:https://imagine-mexico.com/event/dia-de-los-muertos-day-of-the-dead/
LOCATION:National\, Mexico
CATEGORIES:National Observances
ATTACH;FMTTYPE=image/jpeg:https://imagine-mexico.com/wp-content/uploads/2018/10/Day-of-the-Dead.jpg
END:VEVENT
BEGIN:VEVENT
DTSTART;VALUE=DATE:20190913
DTEND;VALUE=DATE:20190914
DTSTAMP:20260423T201607
CREATED:20190831T114128Z
LAST-MODIFIED:20190831T122942Z
UID:9244-1568332800-1568419199@imagine-mexico.com
SUMMARY:The Boy Heroes - Mexico Honors its Young Patriots
DESCRIPTION:The “Niños Heroes – Mexico’s Boy Heroes\nDuring September\, Mexico remembers and honors six young cadets\, ranging in age from thirteen to nineteen\, who died defending their military academy at Chapultepec Castle in Mexico City in 1847 during the Mexican-American War. There is a monument dedicated to these young men. \n \nEvery year on September 13th\, the country stops to honor these brave young men. Mexican school children are taught their names. \nIn the words of President Harry Truman of the United States\, “Brave men do not belong to any one country.” \nRead more:\nFrom the Halls of Montezuma:  The “Niños Héroes” (Boy Heroes) \n \n 
URL:https://imagine-mexico.com/event/the-boy-heroes-mexico-honors-its-young-patriots/
LOCATION:National\, Mexico
CATEGORIES:National Observances
ATTACH;FMTTYPE=image/jpeg:https://imagine-mexico.com/wp-content/uploads/2017/08/ninos-heroes.jpg
END:VEVENT
BEGIN:VEVENT
DTSTART;VALUE=DATE:20190616
DTEND;VALUE=DATE:20190617
DTSTAMP:20260423T201607
CREATED:20190530T070521Z
LAST-MODIFIED:20190530T070521Z
UID:11259-1560643200-1560729599@imagine-mexico.com
SUMMARY:Father's Day
DESCRIPTION:Families in Mexico and around the world celebrate Fathers on this day! Hug your Daddy. \nHere is a special song about Fathers and Daughters from Michael Bolton.
URL:https://imagine-mexico.com/event/fathers-day-2019/
CATEGORIES:National Observances
ATTACH;FMTTYPE=image/jpeg:https://imagine-mexico.com/wp-content/uploads/2014/05/fathers-day-global.jpg
END:VEVENT
BEGIN:VEVENT
DTSTART;VALUE=DATE:20190523
DTEND;VALUE=DATE:20190524
DTSTAMP:20260423T201607
CREATED:20190426T170640Z
LAST-MODIFIED:20190426T170640Z
UID:11056-1558569600-1558655999@imagine-mexico.com
SUMMARY:Students’ Day (DÍA DE ESTUDIANTE) in Mexico – May 23
DESCRIPTION:Spend some time with a special student in your life! \n 
URL:https://imagine-mexico.com/event/students-day-dia-de-estudiante-in-mexico-may-23/
LOCATION:Nationwide\, Mexico
CATEGORIES:National Observances
ATTACH;FMTTYPE=image/jpeg:https://imagine-mexico.com/wp-content/uploads/2016/02/UAGro-students-at-Ninos-Heroes-School.jpg
END:VEVENT
BEGIN:VEVENT
DTSTART;VALUE=DATE:20190505
DTEND;VALUE=DATE:20190506
DTSTAMP:20260423T201607
CREATED:20190426T164944Z
LAST-MODIFIED:20190426T164944Z
UID:11049-1557014400-1557100799@imagine-mexico.com
SUMMARY:Commemoration of the Battle of Puebla (Conmemoración de la Batalla de Puebla) – May 5
DESCRIPTION:The “Cinco de Mayo” holiday celebrates the victory of the Mexican militia over the French army in “The Battle of Puebla” in 1862. Cinco de Mayo is commonly recognized in American cities with large Mexican populations. Many Americans mistakenly think that Cinco de Mayo is Mexican Independence Day\, but the national holiday is September 16th.   The Battle of Puebla also impacted the result of the USA Civil War. Read more about this history: \nImagine-Mexico.com/Cinco de Mayo -Its Impact on Freedom and the United States Civil War
URL:https://imagine-mexico.com/event/commemoration-of-the-battle-of-puebla-conmemoracion-de-la-batalla-de-puebla-may-5/
LOCATION:Nationwide\, Mexico
CATEGORIES:National Observances
ATTACH;FMTTYPE=image/jpeg:https://imagine-mexico.com/wp-content/uploads/2017/04/cinco-de-mayo.jpg
END:VEVENT
BEGIN:VEVENT
DTSTART;VALUE=DATE:20190421
DTEND;VALUE=DATE:20190422
DTSTAMP:20260423T201607
CREATED:20190402T115432Z
LAST-MODIFIED:20190402T115432Z
UID:10815-1555804800-1555891199@imagine-mexico.com
SUMMARY:Heroic Defense of Veracruz - April 21
DESCRIPTION:Throughout the country\, Mexicans remember and commemorate the young cadets\, staff\, and faculty of the Heroica Escuela Naval Militar and the personnel of the Mexican Navy who defended their country against the invasion and occupation of Veracruz by the United States in 1914. \nLt. Jose Azueta was a hero of this conflict. The cities of Veracruz and Zihuatanejo (de Jose Azueta) are named in his honor. Read more about this chapter in history: \nVeracruz and Zihuatanejo are Named in Honor of José Azueta – Who was He?
URL:https://imagine-mexico.com/event/heroic-defense-of-veracruz-april-21/
LOCATION:Nationwide\, Mexico
CATEGORIES:National Observances
ATTACH;FMTTYPE=image/jpeg:https://imagine-mexico.com/wp-content/uploads/2017/04/Jose-Azueta-at-Zihuatanejo-Pier.jpg
END:VEVENT
BEGIN:VEVENT
DTSTART;VALUE=DATE:20190224
DTEND;VALUE=DATE:20190225
DTSTAMP:20260423T201607
CREATED:20190129T171010Z
LAST-MODIFIED:20190129T171010Z
UID:10444-1550966400-1551052799@imagine-mexico.com
SUMMARY:Flag Day in Mexico
DESCRIPTION:Flag Day is not a public holiday\, but rather a national observance day. Most businesses follow regular opening hours in Mexico. \nThe colors of the Mexican flag – red\, white\, and green – are the national liberation army’s colors. Mexicans first celebrated the country’s current flag on February 24\, 1937. \nThe emblem in the middle of the flag comes from a legendary Aztec story. The Aztecs built their empire on a spot where they found an eagle eating a snake on top of a cactus. It is believed that the incident of the eagle and snake was a sign given by one of their gods and the place where it happened is now Mexico City.
URL:https://imagine-mexico.com/event/flag-day-in-mexico/
LOCATION:Mexico
CATEGORIES:National Observances
ATTACH;FMTTYPE=image/jpeg:https://imagine-mexico.com/wp-content/uploads/2018/05/flag.jpg
END:VEVENT
BEGIN:VEVENT
DTSTART;VALUE=DATE:20190214
DTEND;VALUE=DATE:20190215
DTSTAMP:20260423T201607
CREATED:20190129T162004Z
LAST-MODIFIED:20190129T164056Z
UID:10428-1550102400-1550188799@imagine-mexico.com
SUMMARY:Observance for President Vicente Guerrero/ Friendship Day
DESCRIPTION:Traditionally\, this date has been celebrated with Cupid\, chocolates\, and special dinners for your sweetheart. But now\, in Mexico and many other parts of the world\, people are stopping to remember a great leader and champion of liberty and human rights\, President Vicente Guerrero\, who was executed on this date in 1831. \nPresident Vicente Guerrero\, who was of African descent\, abolished human slavery in Mexico and fought for a new order of equality and dignity for all people. Like many other civil rights activists\, he was murdered by his enemies who wanted to retain the caste system of the social and economic order. \nLearn more about this great hero. \nAfromexican Vicente Guerrero – A Leader of Liberty\, Independence\, and Peace!
URL:https://imagine-mexico.com/event/observance-for-president-vicente-guerrero-friendship-day/
CATEGORIES:National Observances
ATTACH;FMTTYPE=image/jpeg:https://imagine-mexico.com/wp-content/uploads/2016/02/Vicente-Guerrero-February-14.jpg
END:VEVENT
BEGIN:VEVENT
DTSTART;VALUE=DATE:20190106
DTEND;VALUE=DATE:20190107
DTSTAMP:20260423T201607
CREATED:20181231T184820Z
LAST-MODIFIED:20181231T184820Z
UID:10250-1546732800-1546819199@imagine-mexico.com
SUMMARY:Three Kings Day - "Dia de los Reyes"
DESCRIPTION:Rather Than Santa\, Mexican Children Celebrate Arrival of the Three Kings and Camels on January 6th\nIn Spanish countries\, the children do not receive gifts in December on Christmas day. Instead\, the family exchanges gifts on January 6th of the new year on Three Kings Day – Día de Los Reyes Magos. This celebration stems from the New Testament of the Bible\, where it states that the kings\, Melchor\, Gaspar\, and Balthasar\, traveled by night all the way from the farthest confines of the earth to bring gifts to the baby Jesus. Arriving from three different directions\, the kings followed the light provided by the star of Bethlehem\, which reportedly lingered over the manger where the Virgin Mary gave birth for many days.   \nThree Kings Day is celebrated with festive lights in the streets\, Nativity scenes and holiday songs. There is also a joyful parade called the “Cabalgata de los Reyes Magos\,” to symbolize the arrival of the kings.  The kings ride upon horses or elaborate floats and throw goodies down to the children lining the streets. This is also traditionally the big opportunity for children to ask the kings for presents. \nIn the evening\, before an early night in bed\, children leave out their shoes in a spot where the kings are sure to see them. The religious monarchs\, just like Santa Claus\, certainly love their sweets\, so the children often set out goodies to entice the kings as well as hay to feed their camels. When morning arrives\, children delightedly discover that the kings nibbled the sweets\, the camels ate the hay\, and by their shoes there are wrapped presents.
URL:https://imagine-mexico.com/event/three-kings-day-dia-de-los-reyes/
LOCATION:Nationwide\, Mexico
CATEGORIES:National Observances
ATTACH;FMTTYPE=image/jpeg:https://imagine-mexico.com/wp-content/uploads/2016/12/o-THREE-KINGS-DAY-facebook.jpg
END:VEVENT
END:VCALENDAR